BEGIN:VCALENDAR
VERSION:2.0
PRODID:Spatie calendar-links
BEGIN:VEVENT
UID:56c6e3eed8c82b063fcdac988e27c543
SUMMARY:Bioinformatics workgroup meeting: 
DTSTAMP:20240613T050000Z
DTSTART:20240613T050000Z
DTEND:20240613T060000Z
LOCATION:Brussels
END:VEVENT
END:VCALENDAR