BEGIN:VCALENDAR
VERSION:2.0
PRODID:Spatie calendar-links
BEGIN:VEVENT
UID:7334c831142789f604b85b75ba9f35e2
SUMMARY:7de Nederlands cfDNA symposium
DTSTAMP:20250704T053000Z
DTSTART:20250704T053000Z
DTEND:20250704T063000Z
LOCATION:Utrecht\, Netherlands
END:VEVENT
END:VCALENDAR