BEGIN:VCALENDAR
VERSION:2.0
PRODID:Spatie calendar-links
BEGIN:VEVENT
UID:a17ef6d9678b4b04a1c87ac2096f81f3
SUMMARY:Basic bioinformatics training session
DTSTAMP:20251015T220000Z
DTSTART:20251015T220000Z
DTEND:20251016T215900Z
LOCATION:BIP\, Brussels
END:VEVENT
END:VCALENDAR